BEGIN:VCALENDAR
VERSION:2.0
PRODID:Events Booking
BEGIN:VEVENT
UID:69e734c205722
SUMMARY:Nuneaton Wreathlaying
DESCRIPTION:Guest of honour - David Paterson
 David is a firm friend of th
 e Fellowship and has been a regular speaker at events\, where he links his
  knowledge as a professional historian to his love of George Eliot and pro
 duces new insights and new information on the local area and George Eliot
 ’s place in it.
 We invite up to 20 or so groups with a George Eliot co
 nnection (such as the hospital and several schools)\, the Mayor and a repr
 esentative of WCC to lay wreaths in honour of the world-famous writer who 
 grew up here.
 Refreshments are then served in the Museum Tea Room. Every
 one is invited and there is no charge!
LOCATION:Mill Street\, Nuneaton CV11
DTSTART:20240623T140000Z
DTEND:20240623T160000Z
DTSTAMP:20240308T223906Z
ORGANIZER;CN=George Eliot Fellowship:MAILTO:info@georgeeliot.org
GEO:52.519005;-1.466885
X-APPLE-STRUCTURED-LOCATION;VALUE=URI;X-ADDRESS=Mill Street\, Nuneaton CV11
 ;X-APPLE-RADIUS=72;X-TITLE=George Eliot Memorial Gardens :52.519005;-1.466
 885
END:VEVENT
END:VCALENDAR