BEGIN:VCALENDAR
VERSION:2.0
PRODID:Events Booking
BEGIN:VEVENT
UID:69ea3d3215181
SUMMARY:George Eliot Walk
DESCRIPTION:Enjoy a guided tour around the parts of Nuneaton depicted in Ge
 orge Eliot's Janet's Repentance.
 The tour will start by the George Eliot
  Obelisk in the George Eliot Memorial Gardens.&nbsp\; Spaces on the tour a
 re limited to 24 and there will be selected readings and a souvenir printe
 d guide.
 &nbsp\;
LOCATION:Mill Street\, Nuneaton CV11
DTSTART:20240526T130000Z
DTEND:20240526T150000Z
DTSTAMP:20240308T213229Z
ORGANIZER;CN=George Eliot Fellowship:MAILTO:info@georgeeliot.org
GEO:52.519005;-1.466885
X-APPLE-STRUCTURED-LOCATION;VALUE=URI;X-ADDRESS=Mill Street\, Nuneaton CV11
 ;X-APPLE-RADIUS=72;X-TITLE=George Eliot Memorial Gardens :52.519005;-1.466
 885
END:VEVENT
END:VCALENDAR